BEGIN:VCALENDAR
VERSION:2.0
PRODID:-//La Horquetta Gospel Foundation - ECPv6.15.20//NONSGML v1.0//EN
CALSCALE:GREGORIAN
METHOD:PUBLISH
X-WR-CALNAME:La Horquetta Gospel Foundation
X-ORIGINAL-URL:https://www.lhgf.org
X-WR-CALDESC:Events for La Horquetta Gospel Foundation
REFRESH-INTERVAL;VALUE=DURATION:PT1H
X-Robots-Tag:noindex
X-PUBLISHED-TTL:PT1H
BEGIN:VTIMEZONE
TZID:UTC
BEGIN:STANDARD
TZOFFSETFROM:+0000
TZOFFSETTO:+0000
TZNAME:UTC
DTSTART:20220101T000000
END:STANDARD
END:VTIMEZONE
BEGIN:VEVENT
DTSTART;VALUE=DATE:20241106
DTEND;VALUE=DATE:20241109
DTSTAMP:20260424T114347
CREATED:20240621T172010Z
LAST-MODIFIED:20240621T172010Z
UID:733-1730851200-1731110399@www.lhgf.org
SUMMARY:Special Meetings with Griffin Daniel
DESCRIPTION:
URL:https://www.lhgf.org/event/special-meetings-with-griffin-daniel/
CATEGORIES:General
END:VEVENT
BEGIN:VEVENT
DTSTART;VALUE=DATE:20241103
DTEND;VALUE=DATE:20241104
DTSTAMP:20260424T114347
CREATED:20240621T171453Z
LAST-MODIFIED:20241028T161508Z
UID:727-1730592000-1730678399@www.lhgf.org
SUMMARY:Pastor's Appreciation
DESCRIPTION:
URL:https://www.lhgf.org/event/pastors-appreciation-2/
CATEGORIES:General
END:VEVENT
BEGIN:VEVENT
DTSTART;VALUE=DATE:20241101
DTEND;VALUE=DATE:20241102
DTSTAMP:20260424T114347
CREATED:20240621T171703Z
LAST-MODIFIED:20240621T173536Z
UID:729-1730419200-1730505599@www.lhgf.org
SUMMARY:NETD District Prayer
DESCRIPTION:
URL:https://www.lhgf.org/event/netd-district-prayer/
CATEGORIES:District Event
END:VEVENT
BEGIN:VEVENT
DTSTART;VALUE=DATE:20241026
DTEND;VALUE=DATE:20241027
DTSTAMP:20260424T114347
CREATED:20240621T171347Z
LAST-MODIFIED:20240621T171400Z
UID:725-1729900800-1729987199@www.lhgf.org
SUMMARY:NETD MM Punch Talk
DESCRIPTION:
URL:https://www.lhgf.org/event/netd-mm-punch-talk/
CATEGORIES:District Event
END:VEVENT
BEGIN:VEVENT
DTSTART;VALUE=DATE:20241014
DTEND;VALUE=DATE:20241021
DTSTAMP:20260424T114347
CREATED:20240621T171251Z
LAST-MODIFIED:20240621T171251Z
UID:723-1728864000-1729468799@www.lhgf.org
SUMMARY:NETD WM Week
DESCRIPTION:
URL:https://www.lhgf.org/event/netd-wm-week/
CATEGORIES:Women
END:VEVENT
BEGIN:VEVENT
DTSTART;VALUE=DATE:20241010
DTEND;VALUE=DATE:20241013
DTSTAMP:20260424T114347
CREATED:20240621T171051Z
LAST-MODIFIED:20240621T171051Z
UID:719-1728518400-1728777599@www.lhgf.org
SUMMARY:NETD Missions Conference
DESCRIPTION:
URL:https://www.lhgf.org/event/netd-missions-conference/
CATEGORIES:District Event
END:VEVENT
BEGIN:VEVENT
DTSTART;VALUE=DATE:20240924
DTEND;VALUE=DATE:20240925
DTSTAMP:20260424T114347
CREATED:20240621T170054Z
LAST-MODIFIED:20240621T170054Z
UID:715-1727136000-1727222399@www.lhgf.org
SUMMARY:NETD Crusaders' Tourney Day
DESCRIPTION:
URL:https://www.lhgf.org/event/netd-crusaders-tourney-day/
CATEGORIES:District Event
END:VEVENT
BEGIN:VEVENT
DTSTART;VALUE=DATE:20240915
DTEND;VALUE=DATE:20240916
DTSTAMP:20260424T114347
CREATED:20240621T165808Z
LAST-MODIFIED:20240809T212419Z
UID:713-1726358400-1726444799@www.lhgf.org
SUMMARY:Women Ministries
DESCRIPTION:
URL:https://www.lhgf.org/event/youth-take-over-sunday/
CATEGORIES:Young Adults
END:VEVENT
BEGIN:VEVENT
DTSTART;VALUE=DATE:20240905
DTEND;VALUE=DATE:20240906
DTSTAMP:20260424T114347
CREATED:20240621T164929Z
LAST-MODIFIED:20240621T164929Z
UID:711-1725494400-1725580799@www.lhgf.org
SUMMARY:NETD Rap Session
DESCRIPTION:
URL:https://www.lhgf.org/event/netd-rap-session-2/
CATEGORIES:District Event
END:VEVENT
BEGIN:VEVENT
DTSTART;VALUE=DATE:20240728
DTEND;VALUE=DATE:20240729
DTSTAMP:20260424T114347
CREATED:20240621T163128Z
LAST-MODIFIED:20240621T163128Z
UID:701-1722124800-1722211199@www.lhgf.org
SUMMARY:WM Fellowship
DESCRIPTION:
URL:https://www.lhgf.org/event/wm-fellowship/
CATEGORIES:Women
END:VEVENT
BEGIN:VEVENT
DTSTART;VALUE=DATE:20240728
DTEND;VALUE=DATE:20240729
DTSTAMP:20260424T114347
CREATED:20240621T162912Z
LAST-MODIFIED:20240621T162912Z
UID:699-1722124800-1722211199@www.lhgf.org
SUMMARY:Greenvale Outreach
DESCRIPTION:
URL:https://www.lhgf.org/event/greenvale-outreach/
CATEGORIES:Evangelism
END:VEVENT
BEGIN:VEVENT
DTSTART;VALUE=DATE:20240722
DTEND;VALUE=DATE:20240727
DTSTAMP:20260424T114347
CREATED:20240621T162719Z
LAST-MODIFIED:20240621T162719Z
UID:695-1721606400-1722038399@www.lhgf.org
SUMMARY:DVBS
DESCRIPTION:
URL:https://www.lhgf.org/event/dvbs-2/
CATEGORIES:Christian Education
END:VEVENT
BEGIN:VEVENT
DTSTART;VALUE=DATE:20240720
DTEND;VALUE=DATE:20240721
DTSTAMP:20260424T114347
CREATED:20240621T162815Z
LAST-MODIFIED:20240621T162815Z
UID:697-1721433600-1721519999@www.lhgf.org
SUMMARY:Hospitality Training Session
DESCRIPTION:
URL:https://www.lhgf.org/event/hospitality-training-session/
CATEGORIES:Departmental
END:VEVENT
BEGIN:VEVENT
DTSTART;VALUE=DATE:20240706
DTEND;VALUE=DATE:20240707
DTSTAMP:20260424T114347
CREATED:20240621T162635Z
LAST-MODIFIED:20240621T162635Z
UID:693-1720224000-1720310399@www.lhgf.org
SUMMARY:Worship Leaders' Retreat
DESCRIPTION:
URL:https://www.lhgf.org/event/worship-leaders-retreat/
CATEGORIES:Departmental
END:VEVENT
BEGIN:VEVENT
DTSTART;VALUE=DATE:20240705
DTEND;VALUE=DATE:20240707
DTSTAMP:20260424T114347
CREATED:20240621T162531Z
LAST-MODIFIED:20240621T162531Z
UID:691-1720137600-1720310399@www.lhgf.org
SUMMARY:NETD CED Retreat
DESCRIPTION:
URL:https://www.lhgf.org/event/netd-ced-retreat/
CATEGORIES:District Event
END:VEVENT
BEGIN:VEVENT
DTSTART;VALUE=DATE:20240704
DTEND;VALUE=DATE:20240705
DTSTAMP:20260424T114347
CREATED:20240621T162441Z
LAST-MODIFIED:20240621T162441Z
UID:689-1720051200-1720137599@www.lhgf.org
SUMMARY:NETD Rap Session
DESCRIPTION:
URL:https://www.lhgf.org/event/netd-rap-session/
CATEGORIES:District Event
END:VEVENT
BEGIN:VEVENT
DTSTART;VALUE=DATE:20240626
DTEND;VALUE=DATE:20240628
DTSTAMP:20260424T114347
CREATED:20240621T162401Z
LAST-MODIFIED:20240621T162401Z
UID:687-1719360000-1719532799@www.lhgf.org
SUMMARY:NETD R.I. Teachers' Training
DESCRIPTION:
URL:https://www.lhgf.org/event/netd-r-i-teachers-training/
CATEGORIES:District Event
END:VEVENT
BEGIN:VEVENT
DTSTART;VALUE=DATE:20240623
DTEND;VALUE=DATE:20240624
DTSTAMP:20260424T114347
CREATED:20240621T162241Z
LAST-MODIFIED:20240621T162241Z
UID:685-1719100800-1719187199@www.lhgf.org
SUMMARY:Greenvale & Mamoral Outreaches
DESCRIPTION:
URL:https://www.lhgf.org/event/greenvale-mamoral-outreaches/
END:VEVENT
BEGIN:VEVENT
DTSTART;VALUE=DATE:20240108
DTEND;VALUE=DATE:20240113
DTSTAMP:20260424T114347
CREATED:20240109T151244Z
LAST-MODIFIED:20240109T151244Z
UID:679-1704672000-1705103999@www.lhgf.org
SUMMARY:Week of Online Prayer
DESCRIPTION:On Zoom: \n6:00 – 6:30 am \n12:00 – 12:30 pm \n7:30 – 8:30 pm
URL:https://www.lhgf.org/event/week-of-online-prayer/
END:VEVENT
BEGIN:VEVENT
DTSTART;VALUE=DATE:20231217
DTEND;VALUE=DATE:20231218
DTSTAMP:20260424T114347
CREATED:20230509T145618Z
LAST-MODIFIED:20230509T145618Z
UID:656-1702771200-1702857599@www.lhgf.org
SUMMARY:Christmas Concert & Church Dinner
DESCRIPTION:
URL:https://www.lhgf.org/event/christmas-concert-church-dinner/
END:VEVENT
BEGIN:VEVENT
DTSTART;VALUE=DATE:20231212
DTEND;VALUE=DATE:20231213
DTSTAMP:20260424T114347
CREATED:20230509T145459Z
LAST-MODIFIED:20230509T145459Z
UID:654-1702339200-1702425599@www.lhgf.org
SUMMARY:Church Business Meeting
DESCRIPTION:
URL:https://www.lhgf.org/event/church-business-meeting-2/
END:VEVENT
BEGIN:VEVENT
DTSTART;VALUE=DATE:20231210
DTEND;VALUE=DATE:20231211
DTSTAMP:20260424T114347
CREATED:20230509T145411Z
LAST-MODIFIED:20230509T145411Z
UID:652-1702166400-1702252799@www.lhgf.org
SUMMARY:Children's Treat
DESCRIPTION:
URL:https://www.lhgf.org/event/childrens-treat/
END:VEVENT
BEGIN:VEVENT
DTSTART;VALUE=DATE:20231118
DTEND;VALUE=DATE:20231119
DTSTAMP:20260424T114347
CREATED:20230509T145215Z
LAST-MODIFIED:20230509T145215Z
UID:650-1700265600-1700351999@www.lhgf.org
SUMMARY:Youth Closing Activity
DESCRIPTION:
URL:https://www.lhgf.org/event/youth-closing-activity/
END:VEVENT
BEGIN:VEVENT
DTSTART;VALUE=DATE:20231029
DTEND;VALUE=DATE:20231030
DTSTAMP:20260424T114347
CREATED:20230509T145107Z
LAST-MODIFIED:20230509T145107Z
UID:648-1698537600-1698623999@www.lhgf.org
SUMMARY:Pastors Appreciation
DESCRIPTION:
URL:https://www.lhgf.org/event/pastors-appreciation/
END:VEVENT
BEGIN:VEVENT
DTSTART;VALUE=DATE:20231028
DTEND;VALUE=DATE:20231029
DTSTAMP:20260424T114347
CREATED:20230509T145020Z
LAST-MODIFIED:20230509T145020Z
UID:646-1698451200-1698537599@www.lhgf.org
SUMMARY:Worship Training Pt. 3
DESCRIPTION:
URL:https://www.lhgf.org/event/worship-training-pt-3/
END:VEVENT
BEGIN:VEVENT
DTSTART;VALUE=DATE:20231022
DTEND;VALUE=DATE:20231023
DTSTAMP:20260424T114347
CREATED:20230509T144937Z
LAST-MODIFIED:20230509T144937Z
UID:644-1697932800-1698019199@www.lhgf.org
SUMMARY:Women's Ministries Day/Week
DESCRIPTION:
URL:https://www.lhgf.org/event/womens-ministries-day-week/
END:VEVENT
BEGIN:VEVENT
DTSTART;VALUE=DATE:20231021
DTEND;VALUE=DATE:20231022
DTSTAMP:20260424T114347
CREATED:20230509T144740Z
LAST-MODIFIED:20230509T144740Z
UID:642-1697846400-1697932799@www.lhgf.org
SUMMARY:Youth Outdoor Social Event
DESCRIPTION:
URL:https://www.lhgf.org/event/youth-outdoor-social-event-3/
END:VEVENT
BEGIN:VEVENT
DTSTART;VALUE=DATE:20231012
DTEND;VALUE=DATE:20231015
DTSTAMP:20260424T114347
CREATED:20230509T144633Z
LAST-MODIFIED:20230509T144633Z
UID:640-1697068800-1697327999@www.lhgf.org
SUMMARY:District Missions Event
DESCRIPTION:
URL:https://www.lhgf.org/event/district-missions-event/
END:VEVENT
BEGIN:VEVENT
DTSTART;VALUE=DATE:20231007
DTEND;VALUE=DATE:20231008
DTSTAMP:20260424T114347
CREATED:20230509T144540Z
LAST-MODIFIED:20230509T144540Z
UID:638-1696636800-1696723199@www.lhgf.org
SUMMARY:Fundraiser
DESCRIPTION:
URL:https://www.lhgf.org/event/fundraiser/
END:VEVENT
BEGIN:VEVENT
DTSTART;VALUE=DATE:20230925
DTEND;VALUE=DATE:20230926
DTSTAMP:20260424T114347
CREATED:20230509T144308Z
LAST-MODIFIED:20230509T144308Z
UID:636-1695600000-1695686399@www.lhgf.org
SUMMARY:Church Family Day
DESCRIPTION:
URL:https://www.lhgf.org/event/church-family-day/
END:VEVENT
END:VCALENDAR