BEGIN:VCALENDAR
VERSION:2.0
PRODID:-//La Horquetta Gospel Foundation - ECPv6.15.20//NONSGML v1.0//EN
CALSCALE:GREGORIAN
METHOD:PUBLISH
X-ORIGINAL-URL:https://www.lhgf.org
X-WR-CALDESC:Events for La Horquetta Gospel Foundation
REFRESH-INTERVAL;VALUE=DURATION:PT1H
X-Robots-Tag:noindex
X-PUBLISHED-TTL:PT1H
BEGIN:VTIMEZONE
TZID:UTC
BEGIN:STANDARD
TZOFFSETFROM:+0000
TZOFFSETTO:+0000
TZNAME:UTC
DTSTART:20240101T000000
END:STANDARD
END:VTIMEZONE
BEGIN:VEVENT
DTSTART;VALUE=DATE:20251102
DTEND;VALUE=DATE:20251103
DTSTAMP:20260424T113050
CREATED:20250501T201140Z
LAST-MODIFIED:20250501T201140Z
UID:974-1762041600-1762127999@www.lhgf.org
SUMMARY:Women's Ministry Day
DESCRIPTION:
URL:https://www.lhgf.org/event/womens-ministry-day/
CATEGORIES:Women
END:VEVENT
BEGIN:VEVENT
DTSTART;VALUE=DATE:20251109
DTEND;VALUE=DATE:20251110
DTSTAMP:20260424T113050
CREATED:20250501T201208Z
LAST-MODIFIED:20250501T201208Z
UID:976-1762646400-1762732799@www.lhgf.org
SUMMARY:Men's Ministry Day
DESCRIPTION:
URL:https://www.lhgf.org/event/mens-ministry-day/
CATEGORIES:Men
END:VEVENT
BEGIN:VEVENT
DTSTART;VALUE=DATE:20251116
DTEND;VALUE=DATE:20251117
DTSTAMP:20260424T113050
CREATED:20250501T201254Z
LAST-MODIFIED:20250501T201254Z
UID:978-1763251200-1763337599@www.lhgf.org
SUMMARY:Youth Ministries Day
DESCRIPTION:
URL:https://www.lhgf.org/event/youth-ministries-day-2/
END:VEVENT
BEGIN:VEVENT
DTSTART;VALUE=DATE:20251123
DTEND;VALUE=DATE:20251124
DTSTAMP:20260424T113050
CREATED:20250501T201343Z
LAST-MODIFIED:20250501T201343Z
UID:980-1763856000-1763942399@www.lhgf.org
SUMMARY:Visiting Church Day
DESCRIPTION:
URL:https://www.lhgf.org/event/visiting-church-day-2/
END:VEVENT
BEGIN:VEVENT
DTSTART;VALUE=DATE:20251213
DTEND;VALUE=DATE:20251214
DTSTAMP:20260424T113050
CREATED:20250501T201511Z
LAST-MODIFIED:20250501T201511Z
UID:982-1765584000-1765670399@www.lhgf.org
SUMMARY:Christian Ed. Kids Christmas Treat
DESCRIPTION:
URL:https://www.lhgf.org/event/christian-ed-kids-christmas-treat/
CATEGORIES:Christian Education
END:VEVENT
BEGIN:VEVENT
DTSTART;VALUE=DATE:20251214
DTEND;VALUE=DATE:20251215
DTSTAMP:20260424T113050
CREATED:20250501T201600Z
LAST-MODIFIED:20250501T201600Z
UID:984-1765670400-1765756799@www.lhgf.org
SUMMARY:Christmas Concert
DESCRIPTION:
URL:https://www.lhgf.org/event/christmas-concert/
END:VEVENT
BEGIN:VEVENT
DTSTART;VALUE=DATE:20251220
DTEND;VALUE=DATE:20251221
DTSTAMP:20260424T113050
CREATED:20250501T201653Z
LAST-MODIFIED:20250501T201653Z
UID:986-1766188800-1766275199@www.lhgf.org
SUMMARY:21st Christmas Market
DESCRIPTION:
URL:https://www.lhgf.org/event/21st-christmas-market/
END:VEVENT
BEGIN:VEVENT
DTSTART;VALUE=DATE:20251225
DTEND;VALUE=DATE:20251226
DTSTAMP:20260424T113050
CREATED:20250501T201744Z
LAST-MODIFIED:20250501T201744Z
UID:988-1766620800-1766707199@www.lhgf.org
SUMMARY:Christmas Morning Service
DESCRIPTION:
URL:https://www.lhgf.org/event/christmas-morning-service/
END:VEVENT
BEGIN:VEVENT
DTSTART;VALUE=DATE:20251231
DTEND;VALUE=DATE:20260101
DTSTAMP:20260424T113050
CREATED:20250501T201834Z
LAST-MODIFIED:20250501T201834Z
UID:990-1767139200-1767225599@www.lhgf.org
SUMMARY:Old Year's Night Service
DESCRIPTION:
URL:https://www.lhgf.org/event/old-years-night-service/
END:VEVENT
BEGIN:VEVENT
DTSTART;VALUE=DATE:20260131
DTEND;VALUE=DATE:20260201
DTSTAMP:20260424T113050
CREATED:20260106T155326Z
LAST-MODIFIED:20260106T155326Z
UID:1008-1769817600-1769903999@www.lhgf.org
SUMMARY:WIST All-In-One Training 2026
DESCRIPTION:
URL:https://www.lhgf.org/event/wist-all-in-one-training-2026/
END:VEVENT
BEGIN:VEVENT
DTSTART;VALUE=DATE:20260209
DTEND;VALUE=DATE:20260210
DTSTAMP:20260424T113050
CREATED:20260106T155352Z
LAST-MODIFIED:20260106T155352Z
UID:1010-1770595200-1770681599@www.lhgf.org
SUMMARY:PAWI Day
DESCRIPTION:
URL:https://www.lhgf.org/event/pawi-day/
END:VEVENT
BEGIN:VEVENT
DTSTART;VALUE=DATE:20260213
DTEND;VALUE=DATE:20260218
DTSTAMP:20260424T113050
CREATED:20260113T154854Z
LAST-MODIFIED:20260113T154854Z
UID:1016-1770940800-1771372799@www.lhgf.org
SUMMARY:NETD Carnival Camp
DESCRIPTION:
URL:https://www.lhgf.org/event/netd-carnival-camp/
END:VEVENT
BEGIN:VEVENT
DTSTART;TZID=UTC:20260223T120000
DTEND;TZID=UTC:20260227T130000
DTSTAMP:20260424T113050
CREATED:20260218T033955Z
LAST-MODIFIED:20260218T033955Z
UID:1031-1771848000-1772197200@www.lhgf.org
SUMMARY:Meet Me At The Square For Prayer
DESCRIPTION:12 noon to 1 pm daily. \n 
URL:https://www.lhgf.org/event/meet-me-at-the-square-for-prayer/
END:VEVENT
BEGIN:VEVENT
DTSTART;TZID=UTC:20260228T070000
DTEND;TZID=UTC:20260228T100000
DTSTAMP:20260424T113050
CREATED:20260113T155137Z
LAST-MODIFIED:20260113T155137Z
UID:1018-1772262000-1772272800@www.lhgf.org
SUMMARY:NETD Men's Prayer Breakfast
DESCRIPTION:
URL:https://www.lhgf.org/event/netd-mens-prayer-breakfast/
END:VEVENT
BEGIN:VEVENT
DTSTART;TZID=UTC:20260306T200000
DTEND;TZID=UTC:20260307T000000
DTSTAMP:20260424T113050
CREATED:20260306T153757Z
LAST-MODIFIED:20260306T153757Z
UID:1034-1772827200-1772841600@www.lhgf.org
SUMMARY:District Half-Night Prayer - Fall Afresh On Us
DESCRIPTION:
URL:https://www.lhgf.org/event/district-half-night-prayer-fall-afresh-on-us/
LOCATION:D’Abadie Pentecostal Church\, Ragoo Road\, D'Abadie
CATEGORIES:District Event
END:VEVENT
BEGIN:VEVENT
DTSTART;VALUE=DATE:20260317
DTEND;VALUE=DATE:20260319
DTSTAMP:20260424T113050
CREATED:20260306T153904Z
LAST-MODIFIED:20260306T153904Z
UID:1037-1773705600-1773878399@www.lhgf.org
SUMMARY:PAWI NETD District Conference
DESCRIPTION:
URL:https://www.lhgf.org/event/pawi-netd-district-conference/
CATEGORIES:District Event
END:VEVENT
BEGIN:VEVENT
DTSTART;VALUE=DATE:20260320
DTEND;VALUE=DATE:20260321
DTSTAMP:20260424T113050
CREATED:20260306T154126Z
LAST-MODIFIED:20260306T154126Z
UID:1039-1773964800-1774051199@www.lhgf.org
SUMMARY:PAWITT National Sports Day
DESCRIPTION:
URL:https://www.lhgf.org/event/pawitt-national-sports-day/
END:VEVENT
BEGIN:VEVENT
DTSTART;VALUE=DATE:20260321
DTEND;VALUE=DATE:20260322
DTSTAMP:20260424T113050
CREATED:20260306T154214Z
LAST-MODIFIED:20260306T154214Z
UID:1042-1774051200-1774137599@www.lhgf.org
SUMMARY:Usher/Hospitality Training
DESCRIPTION:
URL:https://www.lhgf.org/event/usher-hospitality-training/
END:VEVENT
BEGIN:VEVENT
DTSTART;VALUE=DATE:20260329
DTEND;VALUE=DATE:20260330
DTSTAMP:20260424T113050
CREATED:20260306T154250Z
LAST-MODIFIED:20260306T154250Z
UID:1044-1774742400-1774828799@www.lhgf.org
SUMMARY:Family Day
DESCRIPTION:
URL:https://www.lhgf.org/event/family-day/
END:VEVENT
BEGIN:VEVENT
DTSTART;VALUE=DATE:20260403
DTEND;VALUE=DATE:20260404
DTSTAMP:20260424T113050
CREATED:20260306T154556Z
LAST-MODIFIED:20260401T211828Z
UID:1046-1775174400-1775260799@www.lhgf.org
SUMMARY:The Choice - A Good Friday Production
DESCRIPTION:
URL:https://www.lhgf.org/event/good-friday-concert/
END:VEVENT
BEGIN:VEVENT
DTSTART;VALUE=DATE:20260406
DTEND;VALUE=DATE:20260407
DTSTAMP:20260424T113050
CREATED:20260306T154644Z
LAST-MODIFIED:20260306T154644Z
UID:1048-1775433600-1775519999@www.lhgf.org
SUMMARY:Easter Concert
DESCRIPTION:
URL:https://www.lhgf.org/event/easter-concert-2/
END:VEVENT
BEGIN:VEVENT
DTSTART;VALUE=DATE:20260411
DTEND;VALUE=DATE:20260412
DTSTAMP:20260424T113050
CREATED:20260306T154718Z
LAST-MODIFIED:20260306T154718Z
UID:1050-1775865600-1775951999@www.lhgf.org
SUMMARY:Men & Mentoring
DESCRIPTION:
URL:https://www.lhgf.org/event/men-mentoring/
CATEGORIES:Men
END:VEVENT
BEGIN:VEVENT
DTSTART;VALUE=DATE:20260503
DTEND;VALUE=DATE:20260525
DTSTAMP:20260424T113050
CREATED:20260306T155136Z
LAST-MODIFIED:20260306T155136Z
UID:1052-1777766400-1779667199@www.lhgf.org
SUMMARY:National Strategic Prayer
DESCRIPTION:
URL:https://www.lhgf.org/event/national-strategic-prayer/
END:VEVENT
BEGIN:VEVENT
DTSTART;VALUE=DATE:20260518
DTEND;VALUE=DATE:20260523
DTSTAMP:20260424T113050
CREATED:20260306T155447Z
LAST-MODIFIED:20260306T155447Z
UID:1054-1779062400-1779494399@www.lhgf.org
SUMMARY:PAWI General Conference
DESCRIPTION:
URL:https://www.lhgf.org/event/pawi-general-conference/
END:VEVENT
BEGIN:VEVENT
DTSTART;VALUE=DATE:20260520
DTEND;VALUE=DATE:20260522
DTSTAMP:20260424T113050
CREATED:20260306T160708Z
LAST-MODIFIED:20260306T160756Z
UID:1056-1779235200-1779407999@www.lhgf.org
SUMMARY:Deeper Life
DESCRIPTION:
URL:https://www.lhgf.org/event/deeper-life-2/
END:VEVENT
BEGIN:VEVENT
DTSTART;VALUE=DATE:20260524
DTEND;VALUE=DATE:20260525
DTSTAMP:20260424T113050
CREATED:20260306T160915Z
LAST-MODIFIED:20260306T160915Z
UID:1058-1779580800-1779667199@www.lhgf.org
SUMMARY:Pentecost Sunday
DESCRIPTION:
URL:https://www.lhgf.org/event/pentecost-sunday-2/
END:VEVENT
BEGIN:VEVENT
DTSTART;VALUE=DATE:20260530
DTEND;VALUE=DATE:20260531
DTSTAMP:20260424T113050
CREATED:20260306T160948Z
LAST-MODIFIED:20260306T160948Z
UID:1060-1780099200-1780185599@www.lhgf.org
SUMMARY:Fundraising Event
DESCRIPTION:
URL:https://www.lhgf.org/event/fundraising-event/
END:VEVENT
BEGIN:VEVENT
DTSTART;VALUE=DATE:20260613
DTEND;VALUE=DATE:20260614
DTSTAMP:20260424T113050
CREATED:20260306T161033Z
LAST-MODIFIED:20260306T161033Z
UID:1062-1781308800-1781395199@www.lhgf.org
SUMMARY:Worship Training
DESCRIPTION:
URL:https://www.lhgf.org/event/worship-training-2/
END:VEVENT
BEGIN:VEVENT
DTSTART;TZID=UTC:20260626T200000
DTEND;TZID=UTC:20260627T000000
DTSTAMP:20260424T113050
CREATED:20260306T161151Z
LAST-MODIFIED:20260306T161151Z
UID:1064-1782504000-1782518400@www.lhgf.org
SUMMARY:District Prayer
DESCRIPTION:
URL:https://www.lhgf.org/event/district-prayer-4/
CATEGORIES:District Event
END:VEVENT
BEGIN:VEVENT
DTSTART;VALUE=DATE:20260627
DTEND;VALUE=DATE:20260628
DTSTAMP:20260424T113050
CREATED:20260306T161304Z
LAST-MODIFIED:20260306T161304Z
UID:1066-1782518400-1782604799@www.lhgf.org
SUMMARY:Men Could Cook/WM Games Day for Fathers
DESCRIPTION:
URL:https://www.lhgf.org/event/men-could-cook-wm-games-day-for-fathers/
CATEGORIES:Men
END:VEVENT
END:VCALENDAR