BEGIN:VCALENDAR
VERSION:2.0
PRODID:-//La Horquetta Gospel Foundation - ECPv6.15.20//NONSGML v1.0//EN
CALSCALE:GREGORIAN
METHOD:PUBLISH
X-WR-CALNAME:La Horquetta Gospel Foundation
X-ORIGINAL-URL:https://www.lhgf.org
X-WR-CALDESC:Events for La Horquetta Gospel Foundation
REFRESH-INTERVAL;VALUE=DURATION:PT1H
X-Robots-Tag:noindex
X-PUBLISHED-TTL:PT1H
BEGIN:VTIMEZONE
TZID:UTC
BEGIN:STANDARD
TZOFFSETFROM:+0000
TZOFFSETTO:+0000
TZNAME:UTC
DTSTART:20240101T000000
END:STANDARD
END:VTIMEZONE
BEGIN:VEVENT
DTSTART;VALUE=DATE:20250921
DTEND;VALUE=DATE:20250922
DTSTAMP:20260424T124840
CREATED:20250501T195933Z
LAST-MODIFIED:20250501T195933Z
UID:965-1758412800-1758499199@www.lhgf.org
SUMMARY:Visiting Church Day (Talparo)
DESCRIPTION:
URL:https://www.lhgf.org/event/visiting-church-day-talparo/
END:VEVENT
BEGIN:VEVENT
DTSTART;VALUE=DATE:20250920
DTEND;VALUE=DATE:20250921
DTSTAMP:20260424T124840
CREATED:20250501T195803Z
LAST-MODIFIED:20250501T195803Z
UID:963-1758326400-1758412799@www.lhgf.org
SUMMARY:Network of Churches Prayer Walk
DESCRIPTION:
URL:https://www.lhgf.org/event/network-of-churches-prayer-walk/
END:VEVENT
BEGIN:VEVENT
DTSTART;VALUE=DATE:20250830
DTEND;VALUE=DATE:20250831
DTSTAMP:20260424T124840
CREATED:20250501T195622Z
LAST-MODIFIED:20250501T195622Z
UID:961-1756512000-1756598399@www.lhgf.org
SUMMARY:Singles Day
DESCRIPTION:
URL:https://www.lhgf.org/event/singles-day/
END:VEVENT
BEGIN:VEVENT
DTSTART;VALUE=DATE:20250817
DTEND;VALUE=DATE:20250818
DTSTAMP:20260424T124840
CREATED:20250501T195535Z
LAST-MODIFIED:20250501T195535Z
UID:959-1755388800-1755475199@www.lhgf.org
SUMMARY:Visiting Church Day
DESCRIPTION:
URL:https://www.lhgf.org/event/visiting-church-day/
END:VEVENT
BEGIN:VEVENT
DTSTART;VALUE=DATE:20250803
DTEND;VALUE=DATE:20250804
DTSTAMP:20260424T124840
CREATED:20250501T195455Z
LAST-MODIFIED:20250501T195455Z
UID:957-1754179200-1754265599@www.lhgf.org
SUMMARY:Worship/Music/Special Singing
DESCRIPTION:
URL:https://www.lhgf.org/event/worship-music-special-singing/
END:VEVENT
BEGIN:VEVENT
DTSTART;VALUE=DATE:20250726
DTEND;VALUE=DATE:20250727
DTSTAMP:20260424T124840
CREATED:20250501T195358Z
LAST-MODIFIED:20250501T202354Z
UID:955-1753488000-1753574399@www.lhgf.org
SUMMARY:LHGF Fundraising Event
DESCRIPTION:
URL:https://www.lhgf.org/event/lhgf-fundraising-event/
END:VEVENT
BEGIN:VEVENT
DTSTART;VALUE=DATE:20250720
DTEND;VALUE=DATE:20250731
DTSTAMP:20260424T124840
CREATED:20250501T194625Z
LAST-MODIFIED:20250501T202057Z
UID:951-1752969600-1753919999@www.lhgf.org
SUMMARY:PAWI Youth Fest (St. Lucia)
DESCRIPTION:
URL:https://www.lhgf.org/event/pawi-youth-fest-st-lucia/
END:VEVENT
BEGIN:VEVENT
DTSTART;VALUE=DATE:20250720
DTEND;VALUE=DATE:20250721
DTSTAMP:20260424T124840
CREATED:20250501T195325Z
LAST-MODIFIED:20250501T202149Z
UID:953-1752969600-1753055999@www.lhgf.org
SUMMARY:Youth Ministries Day
DESCRIPTION:
URL:https://www.lhgf.org/event/youth-ministries-day/
END:VEVENT
BEGIN:VEVENT
DTSTART;VALUE=DATE:20250714
DTEND;VALUE=DATE:20250720
DTSTAMP:20260424T124840
CREATED:20250501T194354Z
LAST-MODIFIED:20250501T194354Z
UID:949-1752451200-1752969599@www.lhgf.org
SUMMARY:DVBS
DESCRIPTION:
URL:https://www.lhgf.org/event/dvbs-3/
END:VEVENT
BEGIN:VEVENT
DTSTART;VALUE=DATE:20250628
DTEND;VALUE=DATE:20250629
DTSTAMP:20260424T124840
CREATED:20250624T140931Z
LAST-MODIFIED:20250624T140931Z
UID:1000-1751068800-1751155199@www.lhgf.org
SUMMARY:NETD Youth Worship
DESCRIPTION:
URL:https://www.lhgf.org/event/netd-youth-worship/
END:VEVENT
BEGIN:VEVENT
DTSTART;VALUE=DATE:20250619
DTEND;VALUE=DATE:20250620
DTSTAMP:20260424T124840
CREATED:20250501T194144Z
LAST-MODIFIED:20250501T194144Z
UID:945-1750291200-1750377599@www.lhgf.org
SUMMARY:Church Family Day
DESCRIPTION:
URL:https://www.lhgf.org/event/church-family-day-2/
END:VEVENT
BEGIN:VEVENT
DTSTART;VALUE=DATE:20250615
DTEND;VALUE=DATE:20250616
DTSTAMP:20260424T124840
CREATED:20250501T194115Z
LAST-MODIFIED:20250501T194115Z
UID:943-1749945600-1750031999@www.lhgf.org
SUMMARY:Father's Day
DESCRIPTION:
URL:https://www.lhgf.org/event/fathers-day/
END:VEVENT
BEGIN:VEVENT
DTSTART;TZID=UTC:20250613T200000
DTEND;TZID=UTC:20250613T220000
DTSTAMP:20260424T124840
CREATED:20250501T194248Z
LAST-MODIFIED:20250613T004142Z
UID:947-1749844800-1749852000@www.lhgf.org
SUMMARY:District Half-Night Prayer
DESCRIPTION:
URL:https://www.lhgf.org/event/district-prayer-3/
END:VEVENT
BEGIN:VEVENT
DTSTART;VALUE=DATE:20250608
DTEND;VALUE=DATE:20250609
DTSTAMP:20260424T124840
CREATED:20250501T194037Z
LAST-MODIFIED:20250501T194037Z
UID:940-1749340800-1749427199@www.lhgf.org
SUMMARY:Pentecost Sunday
DESCRIPTION:
URL:https://www.lhgf.org/event/pentecost-sunday/
END:VEVENT
BEGIN:VEVENT
DTSTART;VALUE=DATE:20250530
DTEND;VALUE=DATE:20250531
DTSTAMP:20260424T124840
CREATED:20250501T190148Z
LAST-MODIFIED:20250501T190148Z
UID:938-1748563200-1748649599@www.lhgf.org
SUMMARY:District Sports Day
DESCRIPTION:
URL:https://www.lhgf.org/event/district-sports-day/
END:VEVENT
BEGIN:VEVENT
DTSTART;VALUE=DATE:20250530
DTEND;VALUE=DATE:20250531
DTSTAMP:20260424T124840
CREATED:20250315T031636Z
LAST-MODIFIED:20250315T031636Z
UID:913-1748563200-1748649599@www.lhgf.org
SUMMARY:Renewing Our Commitment - Marriage Dinner
DESCRIPTION:
URL:https://www.lhgf.org/event/renewing-our-commitment-marriage-dinner/
END:VEVENT
BEGIN:VEVENT
DTSTART;VALUE=DATE:20250518
DTEND;VALUE=DATE:20250519
DTSTAMP:20260424T124840
CREATED:20250501T185618Z
LAST-MODIFIED:20250501T185618Z
UID:932-1747526400-1747612799@www.lhgf.org
SUMMARY:Community Outreach
DESCRIPTION:
URL:https://www.lhgf.org/event/community-outreach/
END:VEVENT
BEGIN:VEVENT
DTSTART;VALUE=DATE:20250516
DTEND;VALUE=DATE:20250519
DTSTAMP:20260424T124840
CREATED:20250501T190052Z
LAST-MODIFIED:20250501T190052Z
UID:936-1747353600-1747612799@www.lhgf.org
SUMMARY:PAWI Pastor's Wives and Lady Ministers Conference
DESCRIPTION:
URL:https://www.lhgf.org/event/pawi-pastors-wives-and-lady-ministers-conference/
END:VEVENT
BEGIN:VEVENT
DTSTART;VALUE=DATE:20250511
DTEND;VALUE=DATE:20250512
DTSTAMP:20260424T124840
CREATED:20250501T185442Z
LAST-MODIFIED:20250501T185442Z
UID:930-1746921600-1747007999@www.lhgf.org
SUMMARY:Mother's Day
DESCRIPTION:
URL:https://www.lhgf.org/event/mothers-day/
END:VEVENT
BEGIN:VEVENT
DTSTART;VALUE=DATE:20250325
DTEND;VALUE=DATE:20250327
DTSTAMP:20260424T124840
CREATED:20250324T175636Z
LAST-MODIFIED:20250324T175802Z
UID:921-1742860800-1743033599@www.lhgf.org
SUMMARY:Holy Spirit Emphasis
DESCRIPTION:7pm Nightly.
URL:https://www.lhgf.org/event/holy-spirit-emphasis/
END:VEVENT
BEGIN:VEVENT
DTSTART;VALUE=DATE:20250313
DTEND;VALUE=DATE:20250314
DTSTAMP:20260424T124840
CREATED:20250221T205158Z
LAST-MODIFIED:20250226T145444Z
UID:903-1741824000-1741910399@www.lhgf.org
SUMMARY:NETD Rap Session
DESCRIPTION:
URL:https://www.lhgf.org/event/netd-rap-session-4/
END:VEVENT
BEGIN:VEVENT
DTSTART;VALUE=DATE:20250308
DTEND;VALUE=DATE:20250309
DTSTAMP:20260424T124840
CREATED:20250221T205226Z
LAST-MODIFIED:20250221T205226Z
UID:905-1741392000-1741478399@www.lhgf.org
SUMMARY:NETD Missions Event
DESCRIPTION:
URL:https://www.lhgf.org/event/netd-missions-event/
END:VEVENT
BEGIN:VEVENT
DTSTART;TZID=UTC:20250221T200000
DTEND;TZID=UTC:20250222T000000
DTSTAMP:20260424T124840
CREATED:20250221T204709Z
LAST-MODIFIED:20250221T204709Z
UID:899-1740168000-1740182400@www.lhgf.org
SUMMARY:NETD Half-Night Prayer
DESCRIPTION:
URL:https://www.lhgf.org/event/netd-half-night-prayer/
END:VEVENT
BEGIN:VEVENT
DTSTART;TZID=UTC:20250221T080000
DTEND;TZID=UTC:20250221T170000
DTSTAMP:20260424T124840
CREATED:20250221T205058Z
LAST-MODIFIED:20250221T205058Z
UID:901-1740124800-1740157200@www.lhgf.org
SUMMARY:NETD Men's Ministry President's Awards Ceremony
DESCRIPTION:
URL:https://www.lhgf.org/event/netd-mens-ministry-presidents-awards-ceremony/
END:VEVENT
BEGIN:VEVENT
DTSTART;VALUE=DATE:20250209
DTEND;VALUE=DATE:20250210
DTSTAMP:20260424T124840
CREATED:20250103T154952Z
LAST-MODIFIED:20250103T154952Z
UID:882-1739059200-1739145599@www.lhgf.org
SUMMARY:PAWI Day - PAWI T&T
DESCRIPTION:
URL:https://www.lhgf.org/event/pawi-day-pawi-tt/
END:VEVENT
BEGIN:VEVENT
DTSTART;VALUE=DATE:20250208
DTEND;VALUE=DATE:20250209
DTSTAMP:20260424T124840
CREATED:20250124T192357Z
LAST-MODIFIED:20250124T192357Z
UID:895-1738972800-1739059199@www.lhgf.org
SUMMARY:WIST All-In-One Training - New Date!
DESCRIPTION:
URL:https://www.lhgf.org/event/wist-all-in-one-training-new-date/
END:VEVENT
BEGIN:VEVENT
DTSTART;TZID=UTC:20250122T193000
DTEND;TZID=UTC:20250122T210000
DTSTAMP:20260424T124840
CREATED:20250118T164128Z
LAST-MODIFIED:20250118T164128Z
UID:891-1737574200-1737579600@www.lhgf.org
SUMMARY:Developmental Session - Becoming A Welcoming Church
DESCRIPTION:
URL:https://www.lhgf.org/event/developmental-session-becoming-a-welcoming-church/
CATEGORIES:Developmental Session
END:VEVENT
BEGIN:VEVENT
DTSTART;VALUE=DATE:20250114
DTEND;VALUE=DATE:20250117
DTSTAMP:20260424T124840
CREATED:20250103T154142Z
LAST-MODIFIED:20250103T154142Z
UID:878-1736812800-1737071999@www.lhgf.org
SUMMARY:Deeper Life
DESCRIPTION:
URL:https://www.lhgf.org/event/deeper-life/
END:VEVENT
BEGIN:VEVENT
DTSTART;VALUE=DATE:20250112
DTEND;VALUE=DATE:20250113
DTSTAMP:20260424T124840
CREATED:20250103T154052Z
LAST-MODIFIED:20250103T154052Z
UID:876-1736640000-1736726399@www.lhgf.org
SUMMARY:Consecration Service
DESCRIPTION:
URL:https://www.lhgf.org/event/consecration-service/
END:VEVENT
BEGIN:VEVENT
DTSTART;VALUE=DATE:20250106
DTEND;VALUE=DATE:20250111
DTSTAMP:20260424T124840
CREATED:20250103T154016Z
LAST-MODIFIED:20250103T154016Z
UID:874-1736121600-1736553599@www.lhgf.org
SUMMARY:Week of Prayer (Online)
DESCRIPTION:
URL:https://www.lhgf.org/event/week-of-prayer-online/
END:VEVENT
END:VCALENDAR