BEGIN:VCALENDAR
VERSION:2.0
PRODID:-//La Horquetta Gospel Foundation - ECPv6.15.20//NONSGML v1.0//EN
CALSCALE:GREGORIAN
METHOD:PUBLISH
X-WR-CALNAME:La Horquetta Gospel Foundation
X-ORIGINAL-URL:https://www.lhgf.org
X-WR-CALDESC:Events for La Horquetta Gospel Foundation
REFRESH-INTERVAL;VALUE=DURATION:PT1H
X-Robots-Tag:noindex
X-PUBLISHED-TTL:PT1H
BEGIN:VTIMEZONE
TZID:UTC
BEGIN:STANDARD
TZOFFSETFROM:+0000
TZOFFSETTO:+0000
TZNAME:UTC
DTSTART:20210101T000000
END:STANDARD
END:VTIMEZONE
BEGIN:VEVENT
DTSTART;TZID=UTC:20250122T193000
DTEND;TZID=UTC:20250122T210000
DTSTAMP:20260424T070907
CREATED:20250118T164128Z
LAST-MODIFIED:20250118T164128Z
UID:891-1737574200-1737579600@www.lhgf.org
SUMMARY:Developmental Session - Becoming A Welcoming Church
DESCRIPTION:
URL:https://www.lhgf.org/event/developmental-session-becoming-a-welcoming-church/
CATEGORIES:Developmental Session
END:VEVENT
BEGIN:VEVENT
DTSTART;VALUE=DATE:20220915
DTEND;VALUE=DATE:20220916
DTSTAMP:20260424T070907
CREATED:20220615T203533Z
LAST-MODIFIED:20220615T203533Z
UID:238-1663200000-1663286399@www.lhgf.org
SUMMARY:Coping With Life’s Changes – Developmental Sessions
DESCRIPTION:
URL:https://www.lhgf.org/event/coping-with-lifes-changes-developmental-sessions/
CATEGORIES:Developmental Session
END:VEVENT
BEGIN:VEVENT
DTSTART;VALUE=DATE:20220721
DTEND;VALUE=DATE:20220722
DTSTAMP:20260424T070907
CREATED:20220615T202436Z
LAST-MODIFIED:20220615T202436Z
UID:214-1658361600-1658447999@www.lhgf.org
SUMMARY:Making Life-Changing Decisions – Developmental Session
DESCRIPTION:
URL:https://www.lhgf.org/event/making-life-changing-decisions-developmental-session/
CATEGORIES:Developmental Session
END:VEVENT
BEGIN:VEVENT
DTSTART;VALUE=DATE:20220616
DTEND;VALUE=DATE:20220617
DTSTAMP:20260424T070907
CREATED:20220615T194356Z
LAST-MODIFIED:20220615T194356Z
UID:190-1655337600-1655423999@www.lhgf.org
SUMMARY:Managing Suicidal Thoughts – Developmental Sessions
DESCRIPTION:
URL:https://www.lhgf.org/event/managing-suicidal-thoughts-developmental-sessions/
CATEGORIES:Developmental Session
END:VEVENT
END:VCALENDAR