BEGIN:VCALENDAR
VERSION:2.0
PRODID:-//La Horquetta Gospel Foundation - ECPv6.15.20//NONSGML v1.0//EN
CALSCALE:GREGORIAN
METHOD:PUBLISH
X-ORIGINAL-URL:https://www.lhgf.org
X-WR-CALDESC:Events for La Horquetta Gospel Foundation
REFRESH-INTERVAL;VALUE=DURATION:PT1H
X-Robots-Tag:noindex
X-PUBLISHED-TTL:PT1H
BEGIN:VTIMEZONE
TZID:UTC
BEGIN:STANDARD
TZOFFSETFROM:+0000
TZOFFSETTO:+0000
TZNAME:UTC
DTSTART:20250101T000000
END:STANDARD
END:VTIMEZONE
BEGIN:VEVENT
DTSTART;VALUE=DATE:20260627
DTEND;VALUE=DATE:20260628
DTSTAMP:20260420T235507
CREATED:20260306T161304Z
LAST-MODIFIED:20260306T161304Z
UID:1066-1782518400-1782604799@www.lhgf.org
SUMMARY:Men Could Cook/WM Games Day for Fathers
DESCRIPTION:
URL:https://www.lhgf.org/event/men-could-cook-wm-games-day-for-fathers/
CATEGORIES:Men
END:VEVENT
END:VCALENDAR