BEGIN:VCALENDAR
VERSION:2.0
PRODID:-//La Horquetta Gospel Foundation - ECPv6.15.20//NONSGML v1.0//EN
CALSCALE:GREGORIAN
METHOD:PUBLISH
X-WR-CALNAME:La Horquetta Gospel Foundation
X-ORIGINAL-URL:https://www.lhgf.org
X-WR-CALDESC:Events for La Horquetta Gospel Foundation
REFRESH-INTERVAL;VALUE=DURATION:PT1H
X-Robots-Tag:noindex
X-PUBLISHED-TTL:PT1H
BEGIN:VTIMEZONE
TZID:UTC
BEGIN:STANDARD
TZOFFSETFROM:+0000
TZOFFSETTO:+0000
TZNAME:UTC
DTSTART:20230101T000000
END:STANDARD
END:VTIMEZONE
BEGIN:VEVENT
DTSTART;VALUE=DATE:20240706
DTEND;VALUE=DATE:20240707
DTSTAMP:20260419T142703
CREATED:20240621T162635Z
LAST-MODIFIED:20240621T162635Z
UID:693-1720224000-1720310399@www.lhgf.org
SUMMARY:Worship Leaders' Retreat
DESCRIPTION:
URL:https://www.lhgf.org/event/worship-leaders-retreat/
CATEGORIES:Departmental
END:VEVENT
BEGIN:VEVENT
DTSTART;VALUE=DATE:20240720
DTEND;VALUE=DATE:20240721
DTSTAMP:20260419T142703
CREATED:20240621T162815Z
LAST-MODIFIED:20240621T162815Z
UID:697-1721433600-1721519999@www.lhgf.org
SUMMARY:Hospitality Training Session
DESCRIPTION:
URL:https://www.lhgf.org/event/hospitality-training-session/
CATEGORIES:Departmental
END:VEVENT
BEGIN:VEVENT
DTSTART;VALUE=DATE:20240722
DTEND;VALUE=DATE:20240727
DTSTAMP:20260419T142703
CREATED:20240621T162719Z
LAST-MODIFIED:20240621T162719Z
UID:695-1721606400-1722038399@www.lhgf.org
SUMMARY:DVBS
DESCRIPTION:
URL:https://www.lhgf.org/event/dvbs-2/
CATEGORIES:Christian Education
END:VEVENT
BEGIN:VEVENT
DTSTART;VALUE=DATE:20240728
DTEND;VALUE=DATE:20240729
DTSTAMP:20260419T142703
CREATED:20240621T162912Z
LAST-MODIFIED:20240621T162912Z
UID:699-1722124800-1722211199@www.lhgf.org
SUMMARY:Greenvale Outreach
DESCRIPTION:
URL:https://www.lhgf.org/event/greenvale-outreach/
CATEGORIES:Evangelism
END:VEVENT
BEGIN:VEVENT
DTSTART;VALUE=DATE:20240728
DTEND;VALUE=DATE:20240729
DTSTAMP:20260419T142703
CREATED:20240621T163128Z
LAST-MODIFIED:20240621T163128Z
UID:701-1722124800-1722211199@www.lhgf.org
SUMMARY:WM Fellowship
DESCRIPTION:
URL:https://www.lhgf.org/event/wm-fellowship/
CATEGORIES:Women
END:VEVENT
END:VCALENDAR