BEGIN:VCALENDAR
VERSION:2.0
PRODID:-//La Horquetta Gospel Foundation - ECPv6.15.20//NONSGML v1.0//EN
CALSCALE:GREGORIAN
METHOD:PUBLISH
X-ORIGINAL-URL:https://www.lhgf.org
X-WR-CALDESC:Events for La Horquetta Gospel Foundation
REFRESH-INTERVAL;VALUE=DURATION:PT1H
X-Robots-Tag:noindex
X-PUBLISHED-TTL:PT1H
BEGIN:VTIMEZONE
TZID:UTC
BEGIN:STANDARD
TZOFFSETFROM:+0000
TZOFFSETTO:+0000
TZNAME:UTC
DTSTART:20210101T000000
END:STANDARD
END:VTIMEZONE
BEGIN:VEVENT
DTSTART;VALUE=DATE:20220704
DTEND;VALUE=DATE:20220705
DTSTAMP:20260421T023813
CREATED:20220615T201943Z
LAST-MODIFIED:20220615T201943Z
UID:206-1656892800-1656979199@www.lhgf.org
SUMMARY:A Godly Marriage – Young Adults
DESCRIPTION:
URL:https://www.lhgf.org/event/a-godly-marriage-young-adults/
CATEGORIES:Young Adults
END:VEVENT
BEGIN:VEVENT
DTSTART;VALUE=DATE:20220716
DTEND;VALUE=DATE:20220717
DTSTAMP:20260421T023813
CREATED:20220615T202338Z
LAST-MODIFIED:20220615T202338Z
UID:212-1657929600-1658015999@www.lhgf.org
SUMMARY:Business Showcase Pt 2 – Women Ministry
DESCRIPTION:
URL:https://www.lhgf.org/event/business-showcase-pt-2-women-ministry/
CATEGORIES:Women
END:VEVENT
BEGIN:VEVENT
DTSTART;VALUE=DATE:20220724
DTEND;VALUE=DATE:20220725
DTSTAMP:20260421T023813
CREATED:20220615T202626Z
LAST-MODIFIED:20220615T202626Z
UID:218-1658620800-1658707199@www.lhgf.org
SUMMARY:Mobile Crusade – Evangelism Ministry
DESCRIPTION:
URL:https://www.lhgf.org/event/mobile-crusade-evangelism-ministry-2/
CATEGORIES:Evangelism
END:VEVENT
BEGIN:VEVENT
DTSTART;VALUE=DATE:20220725
DTEND;VALUE=DATE:20220726
DTSTAMP:20260421T023813
CREATED:20220615T202727Z
LAST-MODIFIED:20220615T202727Z
UID:222-1658707200-1658793599@www.lhgf.org
SUMMARY:Online Gaming – Young Adults
DESCRIPTION:
URL:https://www.lhgf.org/event/online-gaming-young-adults/
CATEGORIES:Young Adults
END:VEVENT
BEGIN:VEVENT
DTSTART;VALUE=DATE:20220731
DTEND;VALUE=DATE:20220801
DTSTAMP:20260421T023813
CREATED:20220615T202654Z
LAST-MODIFIED:20220615T202654Z
UID:220-1659225600-1659311999@www.lhgf.org
SUMMARY:Mobile Crusade – Evangelism Ministry
DESCRIPTION:
URL:https://www.lhgf.org/event/mobile-crusade-evangelism-ministry-3/
CATEGORIES:Evangelism
END:VEVENT
END:VCALENDAR