BEGIN:VCALENDAR
VERSION:2.0
PRODID:-//La Horquetta Gospel Foundation - ECPv6.15.20//NONSGML v1.0//EN
CALSCALE:GREGORIAN
METHOD:PUBLISH
X-ORIGINAL-URL:https://www.lhgf.org
X-WR-CALDESC:Events for La Horquetta Gospel Foundation
REFRESH-INTERVAL;VALUE=DURATION:PT1H
X-Robots-Tag:noindex
X-PUBLISHED-TTL:PT1H
BEGIN:VTIMEZONE
TZID:UTC
BEGIN:STANDARD
TZOFFSETFROM:+0000
TZOFFSETTO:+0000
TZNAME:UTC
DTSTART:20210101T000000
END:STANDARD
END:VTIMEZONE
BEGIN:VEVENT
DTSTART;VALUE=DATE:20220618
DTEND;VALUE=DATE:20220619
DTSTAMP:20260421T035900
CREATED:20220615T194527Z
LAST-MODIFIED:20220615T194527Z
UID:192-1655510400-1655596799@www.lhgf.org
SUMMARY:Business Showcase – Women Ministry
DESCRIPTION:
URL:https://www.lhgf.org/event/business-showcase-women-ministry/
CATEGORIES:Departmental,Women
END:VEVENT
BEGIN:VEVENT
DTSTART;VALUE=DATE:20220619
DTEND;VALUE=DATE:20220620
DTSTAMP:20260421T035900
CREATED:20220615T194801Z
LAST-MODIFIED:20220615T194801Z
UID:196-1655596800-1655683199@www.lhgf.org
SUMMARY:Mobile Crusade – Evangelism Ministry
DESCRIPTION:
URL:https://www.lhgf.org/event/mobile-crusade-evangelism-ministry/
CATEGORIES:Evangelism
END:VEVENT
BEGIN:VEVENT
DTSTART;VALUE=DATE:20220625
DTEND;VALUE=DATE:20220626
DTSTAMP:20260421T035900
CREATED:20220615T195227Z
LAST-MODIFIED:20220615T195227Z
UID:200-1656115200-1656201599@www.lhgf.org
SUMMARY:Interviews & Work Ethics – Young Adults
DESCRIPTION:
URL:https://www.lhgf.org/event/interviews-work-ethics-young-adults/
CATEGORIES:Young Adults
END:VEVENT
END:VCALENDAR